BEGIN:VCALENDAR
VERSION:2.0
PRODID:-//Tukios.com/
BEGIN:VEVENT
UID:5f60c6f9-651d-49b4-bdcc-ce80ff39aa6f@www.belkfuneralhome.com
DTSTAMP:20260425T003402Z
DTSTART:20260426T200000Z
DTEND:20260426T210000Z
SUMMARY:Memorial Service
DESCRIPTION:
URL:https://www.belkfuneralhome.com/obituaries/henry-howle
LOCATION: 229 W Broad St  Darlington SC 29532
GEO:34.2984663;-79.8708087
END:VEVENT
END:VCALENDAR