BEGIN:VCALENDAR
VERSION:2.0
PRODID:-//Tukios.com/
BEGIN:VEVENT
UID:0dd47a88-e137-4d48-af7f-d91111b37954@www.belkfuneralhome.com
DTSTAMP:20260425T003111Z
DTSTART:20260426T190000Z
DTEND:20260426T200000Z
SUMMARY:Visitation with Family
DESCRIPTION:
URL:https://www.belkfuneralhome.com/obituaries/henry-howle
LOCATION: 229 W Broad St  Darlington SC 29532
GEO:34.2984663;-79.8708087
END:VEVENT
END:VCALENDAR